BEGIN:VCALENDAR
VERSION:2.0
PRODID:-//Squarespace Inc/Squarespace 6//v6//EN
BEGIN:VEVENT
UID:5a11fab3e4966b5d5362771a@squarespace.com
DTSTAMP:20171119T215330Z
DTSTART:20171205T220000Z
DTEND:20171205T230000Z
SUMMARY:Denim Den Xmas Ladies Night
END:VEVENT
END:VCALENDAR
