BEGIN:VCALENDAR
VERSION:2.0
PRODID:-//Squarespace Inc/Squarespace 6//v6//EN
BEGIN:VEVENT
UID:5a3b8d6371c10b359f5cabc2@squarespace.com
DTSTAMP:20171221T104838Z
DTSTART:20180510T100000Z
DTEND:20180513T110000Z
SUMMARY:Melbourne Styling Tour 2018
END:VEVENT
END:VCALENDAR
